BEGIN:VCALENDAR
VERSION:2.0
PRODID:-//Kino Pobjeda Metković - ECPv4.6.8//NONSGML v1.0//EN
CALSCALE:GREGORIAN
METHOD:PUBLISH
X-WR-CALNAME:Kino Pobjeda Metković
X-ORIGINAL-URL:http://www.kinopobjeda.hr
X-WR-CALDESC:Events for Kino Pobjeda Metković
BEGIN:VEVENT
DTSTART;TZID=UTC+1:20170121T193000
DTEND;TZID=UTC+1:20170121T213000
DTSTAMP:20260426T032225
CREATED:20170117T131549Z
LAST-MODIFIED:20170117T132506Z
UID:1040-1485027000-1485034200@www.kinopobjeda.hr
SUMMARY:Jackie
DESCRIPTION:\nNakon ubojstva američkog predsjednika Johna F. Kennedyja\, prva dama Jacqueline Kennedy pokušava biti jaka nakon trume koju je njena obitelj doživjela\, vratiti vjeru\, utješiti svoju djecu te definirati povijesno nasljeđe svoga muža. Radnja prati život Jackie Kennedy od trenutka atentata na njenog muža i intervjua kojeg je povodom tragičnog događaja morala dati magazinu Life\, reflektirajući se na svoju privatnu i javnu personu. Mnogi su kritičari predvidjeli kako se Natalie Portman smiješi nagradna Oscar® za ovu ulogu. \n\n			\n				\n			\n			\n				\n			\n		\n\n
URL:http://www.kinopobjeda.hr/raspored/1040/
CATEGORIES:biografija,drama
END:VEVENT
END:VCALENDAR