BEGIN:VCALENDAR
VERSION:2.0
PRODID:-//Kino Pobjeda Metković - ECPv4.6.8//NONSGML v1.0//EN
CALSCALE:GREGORIAN
METHOD:PUBLISH
X-WR-CALNAME:Kino Pobjeda Metković
X-ORIGINAL-URL:http://www.kinopobjeda.hr
X-WR-CALDESC:Events for Kino Pobjeda Metković
BEGIN:VEVENT
DTSTART;TZID=UTC+1:20170514T200000
DTEND;TZID=UTC+1:20170514T221500
DTSTAMP:20260423T121410
CREATED:20170510T114332Z
LAST-MODIFIED:20170510T114345Z
UID:1400-1494792000-1494800100@www.kinopobjeda.hr
SUMMARY:Kralj Arthur
DESCRIPTION:\nKralj Arthur\nIZVORNO IME: King Arthur: Legend of the Sword\nREDATELJ: Guy Ritchie  |  ŽANR: Akcijski\, avantura\, drama ULOGE: Charlie Hunnam\, Annabelle Wallis\, Jude Law TRAJANJE FILMA: 126 minuta  |  GODINA: 2017  |  \nDRŽAVA: SAD\, Velika Britanija\, Australija  |  \nDATUM PRIKAZIVANJA: 14.05. U 20\,00 \nKada Arthurov otac bude ubijen\, Vortigern (Jude Law)\, Arthurov stric\, preuzme njegovu krunu. Izgubivši nasljeđe\, Arthur se nađe u mračnim ulicama grada. Ali\, kada izvuče mač iz kamena\, njegov se život u potpunosti promijeni te je prisiljen saznati istinu o svome porijeklu…sviđalo se to njemu ili ne. \n \n
URL:http://www.kinopobjeda.hr/raspored/1400/
CATEGORIES:akcija,avantura,drama
END:VEVENT
END:VCALENDAR