BEGIN:VCALENDAR
VERSION:2.0
PRODID:-//Kino Pobjeda Metković - ECPv4.6.8//NONSGML v1.0//EN
CALSCALE:GREGORIAN
METHOD:PUBLISH
X-WR-CALNAME:Kino Pobjeda Metković
X-ORIGINAL-URL:http://www.kinopobjeda.hr
X-WR-CALDESC:Events for Kino Pobjeda Metković
BEGIN:VEVENT
DTSTART;TZID=UTC+1:20170722T210000
DTEND;TZID=UTC+1:20170722T230000
DTSTAMP:20260423T094849
CREATED:20170717T113102Z
LAST-MODIFIED:20170717T113121Z
UID:1582-1500757200-1500764400@www.kinopobjeda.hr
SUMMARY:DUNKIRK
DESCRIPTION:\nIZVORNO IME: Dunkirk\nREDATELJ: Christopher Nolan | ŽANR: akcija\, drama\, triler\nULOGE: Tom Hardy\, Mark Rylance\, Cillian Murphy\, Harry Styles\nTRAJANJE FILMA: 106 minuta | GODINA: 2017 | DRŽAVA: SAD\, Velika Britanija |\nDATUM PRIKAZIVANJA: 22.07.2017\nSADRŽAJ FILMA:\nFilm vjerno prikazuje događaje tijekom nevjerojatne bitke kod Dunkirka te evakuacije savezničkih vojnika iz Belgije\, Britanije i Francuske koji su bili odsječeni i opkoljeni njemačkom vojskom u Francuskoj od 27. svibnja do 4. lipnja 1940. godine. Evakuacijom je tada spašeno preko 300.000 vojnika. \n\n			\n				\n			\n			\n				\n			\n			\n				\n			\n			\n				\n			\n			\n				\n			\n		\n\n
URL:http://www.kinopobjeda.hr/raspored/1582/
CATEGORIES:akcija,drama,triler
END:VEVENT
END:VCALENDAR