BEGIN:VCALENDAR
VERSION:2.0
PRODID:-//Kino Pobjeda Metković - ECPv4.6.8//NONSGML v1.0//EN
CALSCALE:GREGORIAN
METHOD:PUBLISH
X-WR-CALNAME:Kino Pobjeda Metković
X-ORIGINAL-URL:http://www.kinopobjeda.hr
X-WR-CALDESC:Events for Kino Pobjeda Metković
BEGIN:VEVENT
DTSTART;TZID=UTC+1:20170924T203000
DTEND;TZID=UTC+1:20170924T223000
DTSTAMP:20260423T120409
CREATED:20170920T131611Z
LAST-MODIFIED:20170921T111122Z
UID:1691-1506285000-1506292200@www.kinopobjeda.hr
SUMMARY:Logan Lucky
DESCRIPTION:\nZVORNO IME: Logan Lucky\nREDATELJ: Steven Soderbergh  |  ŽANR: akcija\, komedija\nULOGE: Channing Tatum\, Adam Driver\, Daniel Craig\, Katie Holmes\, Seth MacFarlane\nTRAJANJE FILMA: 118 minuta  |  GODINA: 2017  |  DRŽAVA: SAD  |\nPOČETAK PRIKAZIVANJA: 24.09.201. U 20\,30\nDatum prikazivanja je informativnog karaktera i kao takav je podložan promjenama. \nSADRŽAJ FILMA: \nPriča je to o dvojici braće koji planiraju izvesti veliku pljačku tijekom NASCAR utrke. U glavnim su ulogama Channing Tatum i Adam Driver\, a odličnu glumačku ekipu čine još i Daniel Craig\, Riley Keough\, Seth MacFarlane\, Sebastian Stan\, Katie Holmes i sve popularnija Katherine Waterston.\n\n
URL:http://www.kinopobjeda.hr/raspored/1691/
CATEGORIES:akcija,komedija
END:VEVENT
END:VCALENDAR