BEGIN:VCALENDAR
VERSION:2.0
PRODID:-//Kino Pobjeda Metković - ECPv4.6.8//NONSGML v1.0//EN
CALSCALE:GREGORIAN
METHOD:PUBLISH
X-WR-CALNAME:Kino Pobjeda Metković
X-ORIGINAL-URL:http://www.kinopobjeda.hr
X-WR-CALDESC:Events for Kino Pobjeda Metković
BEGIN:VEVENT
DTSTART;TZID=UTC+1:20171007T203000
DTEND;TZID=UTC+1:20171007T223000
DTSTAMP:20260423T061953
CREATED:20171005T094732Z
LAST-MODIFIED:20171005T094808Z
UID:1747-1507408200-1507415400@www.kinopobjeda.hr
SUMMARY:Victoria i Abdul
DESCRIPTION:\nIZVORNO IME: Victoria and Abdul\nREDATELJ: Stephen Frears  |  ŽANR: biografija\, drama\nULOGE: Judi Dench\, Ali Fazal\, Adeel Akhtar\, Simon Callow\, Michael Gambon\, Eddie Izzard\nTRAJANJE FILMA: 112 minuta  |  GODINA: 2017  |  DRŽAVA: Velika Britanija\, SAD  |\nPOČETAK PRIKAZIVANJA: 7.10.2017. \nSADRŽAJ FILMA:\nOva filmska priča temeljena je na stvarnim događajima za vrijeme kraljevanja kraljice Victorije\, koja je vladala Ujedinjenim Kraljevstvom 63 godine\, od 1837. godine do svoje smrti. \nRadnja filma prati posljednje destljeće njezinog vladanja i njezino neočekivano prijateljstvo s mladim indijskim službenikom Abdulom\, koji dolazi iz Indije na kraljičin zlatni jubilej 1887. godine\, a kasnije postaje njezin najbliži povjerenik i učitelj. \nIako je kraljica Victoria u to vrijeme bila i carica Indije\, članovi kraljevske obitelji i njeni najbliži suradnici suprotstavljaju se prijateljstvu i žele ga uništiti. Dok kraljica preispituje svoju dugogodišnju vladavinu\, unatoč protivljenju njezine obitelji\, prijateljstvo i međusobno poštovanje između Abdula i kraljice se produbljuje i upravo time potaknuta\, kraljica počinje promatrati svijet oko sebe drugim očima. \nU ulozi karizmatične Victorie\, gledat ćemo dobitnicu nagrade Oskar Judi Dench\, a mladi indijski glumac Ali Fazal pojavit će se kao Abdul. Film Victoria i Abdul pun je topline\, mudrosti i humora.\n\n			\n				\n			\n			\n				\n			\n			\n				\n			\n			\n				\n			\n			\n				\n			\n			\n				\n			\n			\n				\n			\n			\n				\n			\n			\n				\n			\n		\n \n
URL:http://www.kinopobjeda.hr/raspored/1747/
CATEGORIES:biografija,drama
END:VEVENT
END:VCALENDAR