BEGIN:VCALENDAR
VERSION:2.0
PRODID:-//Kino Pobjeda Metković - ECPv4.6.8//NONSGML v1.0//EN
CALSCALE:GREGORIAN
METHOD:PUBLISH
X-WR-CALNAME:Kino Pobjeda Metković
X-ORIGINAL-URL:http://www.kinopobjeda.hr
X-WR-CALDESC:Events for Kino Pobjeda Metković
BEGIN:VEVENT
DTSTART;TZID=UTC+1:20200117T193000
DTEND;TZID=UTC+1:20200117T210000
DTSTAMP:20260422T030848
CREATED:20200117T130152Z
LAST-MODIFIED:20200117T130152Z
UID:2992-1579289400-1579294800@www.kinopobjeda.hr
SUMMARY:1917
DESCRIPTION: \n
URL:http://www.kinopobjeda.hr/raspored/1917/
END:VEVENT
END:VCALENDAR