BEGIN:VCALENDAR
VERSION:2.0
PRODID:-//Kino Pobjeda Metković - ECPv4.6.8//NONSGML v1.0//EN
CALSCALE:GREGORIAN
METHOD:PUBLISH
X-WR-CALNAME:Kino Pobjeda Metković
X-ORIGINAL-URL:http://www.kinopobjeda.hr
X-WR-CALDESC:Events for Kino Pobjeda Metković
BEGIN:VEVENT
DTSTART;TZID=UTC+1:20180511T200000
DTEND;TZID=UTC+1:20180511T220000
DTSTAMP:20260423T183250
CREATED:20180509T102904Z
LAST-MODIFIED:20180509T111435Z
UID:2290-1526068800-1526076000@www.kinopobjeda.hr
SUMMARY:UKLETA REDOVNICA
DESCRIPTION:\nUKLETA REDOVNICA \nIZVORNO IME: The Crucifixion \nREDATELJ: Xavier Gens  |  ŽANR: Horor\, misterija \nULOGE: Sophie Cookson\, Corneliu Ulici\, Ada Lupu \nTRAJANJE FILMA: 90 minuta  |  GODINA: 2017  |  DRŽAVA: SAD \nSADRŽAJ FILMA: \nPriča počinje u Rumunjskoj zastrašujućim vriskom iz daljine. Svećenik Dimitru je zatvoren zbog ubojstva redovnice nad kojom je izvršavao egzorcizam. Istraživačka novinarka pokušava otkriti je li svećenik ubio duševno bolesnu osobu ili je jednostavno izgubio bitku s demonskom prisutnošću. \n \n
URL:http://www.kinopobjeda.hr/raspored/2290/
CATEGORIES:horor,misterija
END:VEVENT
END:VCALENDAR