BEGIN:VCALENDAR
VERSION:2.0
PRODID:-//Kino Pobjeda Metković - ECPv4.6.8//NONSGML v1.0//EN
CALSCALE:GREGORIAN
METHOD:PUBLISH
X-WR-CALNAME:Kino Pobjeda Metković
X-ORIGINAL-URL:http://www.kinopobjeda.hr
X-WR-CALDESC:Events for Kino Pobjeda Metković
BEGIN:VEVENT
DTSTART;TZID=UTC+1:20190322T193000
DTEND;TZID=UTC+1:20190322T223000
DTSTAMP:20260422T092454
CREATED:20190321T092317Z
LAST-MODIFIED:20190321T092349Z
UID:2814-1553283000-1553293800@www.kinopobjeda.hr
SUMMARY:MI
DESCRIPTION:\nožujka u 19:30\n\nMI \nIZVORNO IME: Us \nREDATELJ: Jordan Peele  |  ŽANR: horor\, triler \nULOGE: Lupita Nyong’o\, Winston Duke\, Elisabeth Moss\, Tim Heidecker\, Yahya Abdul-Mateen II\, Anna Diop \nTRAJANJE FILMA: 116 minuta  |  GODINA: 2019  |  DRŽAVA: SAD  |  PLAKAT FILMA \nPOČETAK PRIKAZIVANJA: 21.03.2019 \nDatum prikazivanja je informativnog karaktera i kao takav je podložan promjenama. \nSADRŽAJ FILMA: \nNakon što je sa svojim redateljskim prvijencem\, filmom Get Out (Bježi)\, šokirao suvremenu umjetnost i postavio nove standarde u provokaciji društva sa društveno osviještenim horror filmovima\, dobitnik Oscara i vizionar Jordan Peel vraća se sa još jednom originalnom horror pričom\, filmom za koji je sam napisao scenarij\, režirao i producirao ga. \n \nU filmu Us (Mi) čija se radnja odvija se u sadašnjosti\, na obalama Sjeverene Karoline\, glavnu ulogu tumači oskarovka Lupita Nyong’o kao Adelaide Wilson. Adelaide i njezina obitelj odlučili su ljetne praznike provesti u idiličnoj vikendici u kojoj je ona provodila svoje ljetne praznike kao dijete. \nProgonjena neobjašnjivom i nerazriješenom traumom iz svoje prošlosti i složenom nizom jezovitih slučajnosti\, Adelaide osjeća kako je njezina paranoja sve veća dok postaje sve sigurnija da će nešto loše zadesiti njezinu obitelj. \nNakon napornog dana na plaži sa svojim prijateljima Tylerima (dobitnica nagrade Emmy –  Elisabeth Moss\, Tim Heidecker\, Cali Sheldon\, Noelle Sheldon)\, Adelaide i njezina obitelj (Winston Duke\, Shahadi Wright Joseph\, Evan Alex) vraćaju se u svoju vikendicu. Kada padne mrak\, Wilsonsi primjećuju siluetu od četiri osobe koje se drže za ruke dok stoje na prilazu. Us (Mi) suprostavlja običnu američku obitelj protiv zastrašujućeg i nevjerojatnog protivnika: samih sebe. \n\n
URL:http://www.kinopobjeda.hr/raspored/2814/
CATEGORIES:horor,triler
END:VEVENT
END:VCALENDAR