BEGIN:VCALENDAR
VERSION:2.0
PRODID:-//Kino Pobjeda Metković - ECPv4.6.8//NONSGML v1.0//EN
CALSCALE:GREGORIAN
METHOD:PUBLISH
X-WR-CALNAME:Kino Pobjeda Metković
X-ORIGINAL-URL:http://www.kinopobjeda.hr
X-WR-CALDESC:Events for Kino Pobjeda Metković
BEGIN:VEVENT
DTSTART;TZID=UTC+1:20190405T193000
DTEND;TZID=UTC+1:20190405T213000
DTSTAMP:20260422T081333
CREATED:20190404T084158Z
LAST-MODIFIED:20190404T084555Z
UID:2842-1554492600-1554499800@www.kinopobjeda.hr
SUMMARY:GROBLJE KUĆNIH LJUBIMACA
DESCRIPTION:\ntravnja u 19:30\n\n\nGROBLJE KUĆNIH LJUBIMACA \n  \nIZVORNO IME: Pet Sematary \nREDATELJ: Kevin Kölsch\, Dennis Widmyer  |  ŽANR: horor\, triler \nULOGE: Jason Clarke\, Amy Seimetz\, John Lithgow \nTRAJANJE FILMA: 100 minuta  |  GODINA: 2019  |  DRŽAVA: SAD  |  PLAKAT FILMA \nPOČETAK PRIKAZIVANJA: 05.04.2019 \n  \nSADRŽAJ FILMA: \nFilm prati dr. Louisa Creeda\, koji nakon preseljenja iz Bostona u idilični Maine\, sa svojom ženom Rachel i njihovo dvoje djece\, otkriva misterioznu grobnicu skrivenu duboko u šumi blizu njihovog novog doma. Kada ih zadesi nesreća\, Louise potraži pomoć neobičnog susjeda\, Juda Crandalla\, što izazove opasnu lančanu reakciju\, koja će osloboditi neizrecivo zlo s užasnim posljedicama. \n
URL:http://www.kinopobjeda.hr/raspored/2842/
CATEGORIES:horor,triler
END:VEVENT
END:VCALENDAR