BEGIN:VCALENDAR
VERSION:2.0
PRODID:-//Kino Pobjeda Metković - ECPv4.6.8//NONSGML v1.0//EN
CALSCALE:GREGORIAN
METHOD:PUBLISH
X-WR-CALNAME:Kino Pobjeda Metković
X-ORIGINAL-URL:http://www.kinopobjeda.hr
X-WR-CALDESC:Events for Kino Pobjeda Metković
BEGIN:VEVENT
DTSTART;TZID=UTC+1:20190406T193000
DTEND;TZID=UTC+1:20190406T213000
DTSTAMP:20260422T080953
CREATED:20190404T084507Z
LAST-MODIFIED:20190404T084620Z
UID:2844-1554579000-1554586200@www.kinopobjeda.hr
SUMMARY:OPSADNO STANJE
DESCRIPTION:\ntravnja u 19:30\n\n\nOPSADNO STANJE \n  \nIZVORNO IME: Captive State \nREDATELJ: Rupert Wyatt  |  ŽANR: SF\, triler \nULOGE: Madeline Brewer\, Vera Farmiga\, John Goodman \nTRAJANJE FILMA: 109 minuta  |  GODINA: 2019  |  DRŽAVA: SAD  |  PLAKAT FILMA \nPOČETAK PRIKAZIVANJA: 28.03.2019 \n  \nSADRŽAJ FILMA: \nPriča započinje u predgrađu Chicaga\, desetljeće nakon što su izvanzemaljci okupirali Zemlju\, te prikazuje perspektivu ljudskih kolaboracionista na jednoj i disidenata na drugoj strani. \n
URL:http://www.kinopobjeda.hr/raspored/2844/
CATEGORIES:triler,znanstveno-fantastični
END:VEVENT
END:VCALENDAR