BEGIN:VCALENDAR
VERSION:2.0
PRODID:-//Kino Pobjeda Metković - ECPv4.6.8//NONSGML v1.0//EN
CALSCALE:GREGORIAN
METHOD:PUBLISH
X-WR-CALNAME:Kino Pobjeda Metković
X-ORIGINAL-URL:http://www.kinopobjeda.hr
X-WR-CALDESC:Events for Kino Pobjeda Metković
BEGIN:VEVENT
DTSTART;TZID=UTC+1:20190615T180000
DTEND;TZID=UTC+1:20190615T200000
DTSTAMP:20260422T072241
CREATED:20190612T115527Z
LAST-MODIFIED:20190612T115542Z
UID:2888-1560621600-1560628800@www.kinopobjeda.hr
SUMMARY:POKEMON DETEKTIV PIKACHU
DESCRIPTION:\nlipnja u 18:00\n\n \nPOKEMON DETEKTIV PIKACHU \nIZVORNO IME: Pokémon Detective Pikachu \nREDATELJ: Rob Letterman  |  ŽANR: animacija\, avantura \nULOGE: Ryan Reynolds\, Suki Waterhouse\, Kathryn Newton \nTRAJANJE FILMA: 104 minuta  |  GODINA: 2019  |  DRŽAVA: SAD  |  PLAKAT FILMA \nPOČETAK PRIKAZIVANJA: 16.05.2019 \nSADRŽAJ FILMA: \nPriča počinje nestankom privatnog istražitelja Harryja Goodmana\, kada njegov 21-godišnji sin Tim pokuša saznati što se zapravo dogodilo. U istrazi će mu pomoći Harryjev bivši Pokémon partner\, detektiv Pikachu\, koji ima najčudniji smisao za humor. Tim i Pikachu će udružiti snage kako bi razotkrili zapetljanu tajnu. U potrazi za tragovima u suvremenoj metropoli u kojoj žive ljudi i Pokémoni\, susreću se s raznolikim likovima te otkrivaju šokantnu tajnu koja bi mogla uništiti cijeli Pokémon svijet. \nhttps://www.youtube.com/watch?v=hzJ4zSK0gNM \n
URL:http://www.kinopobjeda.hr/raspored/2888/
END:VEVENT
END:VCALENDAR