BEGIN:VCALENDAR
VERSION:2.0
PRODID:-//Kino Pobjeda Metković - ECPv4.6.8//NONSGML v1.0//EN
CALSCALE:GREGORIAN
METHOD:PUBLISH
X-WR-CALNAME:Kino Pobjeda Metković
X-ORIGINAL-URL:http://www.kinopobjeda.hr
X-WR-CALDESC:Events for Kino Pobjeda Metković
BEGIN:VEVENT
DTSTART;TZID=UTC+1:20200313T193000
DTEND;TZID=UTC+1:20200313T213000
DTSTAMP:20260421T202423
CREATED:20200312T122925Z
LAST-MODIFIED:20200312T123044Z
UID:3139-1584127800-1584135000@www.kinopobjeda.hr
SUMMARY:BRAHMS: DJEČAK II
DESCRIPTION:\nPetak\, 13.3. u 19:30 sati – BRAHMS: DJEČAK II \nREDATELJ: William Brent Bell | ŽANR: horor\nULOGE: Katie Holmes\, Christopher Convery\, Owain Yeoman\, Ralph Ineson \nNakon što se mlada obitelj\, nesvjesna njene prošlosti\, useli u vilu Heelshire na zabačenom imanju\, njihov sin pronalazi novog prijatelja\, jezivog lutka kojeg naziva Brahms.\nBrahms je prilično uznemirujući lutak\, kojeg se morate bojati. U njemu stanuje zlo\, a u njegovom se domu mora igrati po njegovim pravilima! \n \n
URL:http://www.kinopobjeda.hr/raspored/3139/
END:VEVENT
END:VCALENDAR