BEGIN:VCALENDAR
VERSION:2.0
PRODID:-//Kino Pobjeda Metković - ECPv4.6.8//NONSGML v1.0//EN
CALSCALE:GREGORIAN
METHOD:PUBLISH
X-WR-CALNAME:Kino Pobjeda Metković
X-ORIGINAL-URL:http://www.kinopobjeda.hr
X-WR-CALDESC:Events for Kino Pobjeda Metković
BEGIN:VEVENT
DTSTART;TZID=UTC+1:20220114T193000
DTEND;TZID=UTC+1:20220114T213200
DTSTAMP:20260420T152018
CREATED:20220110T091747Z
LAST-MODIFIED:20220110T091747Z
UID:4220-1642188600-1642195920@www.kinopobjeda.hr
SUMMARY:355
DESCRIPTION:\n  \nU Kinu ‘Pobjeda’ Metković u petak\, 14. siječnja u 19:30 na rasporedu je akcijski triler ‘355’.\nKada strogo čuvano oružje padne u ruke plaćenika\, CIA agentica Mason Brown (za Oscara nominirana Jessica Chastain) morat će udružiti snage s njemačkom agenticom Marie (Diane Kruger)\, saveznicom iz agencije MI6 i vrhunskom računalnom stručnjakinjom Khadijah (dobitnica Oscara® Lupita Nyong’o) i vještom psihologinjom Gracielom (dobitnica Oscar® Penélope Cruz) u smrtonosnoj\, vratolomnoj misiji. Akcija kreće diljem svijeta\, od pariških bistroa do šarenih tržnica Maroka te raskošnih aukcijskih kuća u Šangaju\, a kvartet žena će udružiti snage kako bi zaštitile svijet — ili ga uništile. \n  \n
URL:http://www.kinopobjeda.hr/raspored/355/
CATEGORIES:12,akcija,triler
END:VEVENT
END:VCALENDAR