BEGIN:VCALENDAR
VERSION:2.0
PRODID:-//Kino Pobjeda Metković - ECPv4.6.8//NONSGML v1.0//EN
CALSCALE:GREGORIAN
METHOD:PUBLISH
X-WR-CALNAME:Kino Pobjeda Metković
X-ORIGINAL-URL:http://www.kinopobjeda.hr
X-WR-CALDESC:Events for Kino Pobjeda Metković
BEGIN:VEVENT
DTSTART;TZID=UTC+1:20210508T173000
DTEND;TZID=UTC+1:20210508T190000
DTSTAMP:20260421T023816
CREATED:20210503T160825Z
LAST-MODIFIED:20210503T160825Z
UID:3827-1620495000-1620500400@www.kinopobjeda.hr
SUMMARY:Ainbo – dobri duh Amazone
DESCRIPTION:\nU Kinu ‘Pobjeda’ Metković u subotu\, 8. svibnja u 17:30 na rasporedu je animirani film ‘Ainbo – dobri duh Amazone’\, sinkroniziran na hrvatski jezik.\nAinbo je priča o djevojčici koja se rodila i odrasla u najdubljoj džungli Amazone u selu Colonia. Jednog dana otkrije da je njezina zemlja ugrožena i shvati da na svijetu postoje i drugi ljudi\, osim njezinih. Koristeći pomoć svojih duhovnih vodiča\, kreće na put tražeći pomoć od najmoćnije Majke Duha Amazone\, Kornjače “Motelo Mama”. Vođena njezinim savjetima\, Ainbo je odlučna spasiti svoj raj od pohlepne i prekomjerne sječe stabala te ilegalnog iskopavanja i spasiti svoje ljude prije nego što bude prekasno. \n  \n
URL:http://www.kinopobjeda.hr/raspored/ainbo-dobri-duh-amazone/
CATEGORIES:animirani,sinkronizirano
END:VEVENT
END:VCALENDAR