BEGIN:VCALENDAR
VERSION:2.0
PRODID:-//Kino Pobjeda Metković - ECPv4.6.8//NONSGML v1.0//EN
CALSCALE:GREGORIAN
METHOD:PUBLISH
X-WR-CALNAME:Kino Pobjeda Metković
X-ORIGINAL-URL:http://www.kinopobjeda.hr
X-WR-CALDESC:Events for Kino Pobjeda Metković
BEGIN:VEVENT
DTSTART;TZID=UTC+1:20190223T193000
DTEND;TZID=UTC+1:20190223T220000
DTSTAMP:20260422T121204
CREATED:20190220T090926Z
LAST-MODIFIED:20190220T091414Z
UID:2748-1550950200-1550959200@www.kinopobjeda.hr
SUMMARY:ALITA: ANĐEO BORBE
DESCRIPTION:\nALITA: ANĐEO BORBE \nIZVORNO IME: Alita: Battle Angel \nREDATELJ: Robert Rodriguez  |  ŽANR: Akcijski\, avantura\, SF \nULOGE: Rosa Salazar\, Jennifer Connelly\, Eiza González\, Christoph Waltz \nTRAJANJE FILMA: 122 minuta  |  GODINA: 2019  |  DRŽAVA: SAD  |  PLAKAT FILMA \nPOČETAK PRIKAZIVANJA: 14.02.2019 \nHIGHLIGHTS: SAMO U CINESTAR KINIMA UZ KUPLJENU ULAZNICU NA POKLON PLAKAT IZ FILMA ALITA: ANĐEO BORBE. VRIJEDI DO ISTEKA ZALIHA. \nSADRŽAJ FILMA: \nRadnja filma je smještena nekoliko stoljeća u budućnost\, u gradu Iron City\, u kojem napuštenu Alitu u besvjesnom stanju pronalazi suosjećajni cyber-liječnik Ido koji je dovodi u svoju kliniku. Kada se Alita probudi\, ne sjeća se tko je\, niti prepoznaje svijet u kojem se nalazi. Aliti je sve novo\, svako iskustvo joj je prvo. Dok uči navigirati svojim novim životom i ulicama Iron Cityja\, Ido je pokušava zaštititi od njezine misteriozne prošlosti\, dok joj njezin novi prijatelj s ulice\, Hugo\, pokušava pomoći da se sjeti svoje prošlosti. Između njih dvoje se počne razvijati sve veća zaljubljenost\, sve dok smrtonosne snage ne dođu po Alitu i krenu narušavati njezine novostečene odnose. Tada Alita otkriva da ima izvanredne borilačke sposobnosti koje može iskoristiti kako bi spasila svoje voljene. Odlučna da otkrije istinu o svom porijeklu\, Alita kreće na put koji će je voditi u borbu protiv nepravdi ovog mračnog\, korumpiranog svijeta. \nhttps://www.youtube.com/watch?v=2hfRN8aogUo \n
URL:http://www.kinopobjeda.hr/raspored/alita-andeo-borbe/
CATEGORIES:akcija,avantura,znanstveno-fantastični
END:VEVENT
END:VCALENDAR