BEGIN:VCALENDAR
VERSION:2.0
PRODID:-//Kino Pobjeda Metković - ECPv4.6.8//NONSGML v1.0//EN
CALSCALE:GREGORIAN
METHOD:PUBLISH
X-WR-CALNAME:Kino Pobjeda Metković
X-ORIGINAL-URL:http://www.kinopobjeda.hr
X-WR-CALDESC:Events for Kino Pobjeda Metković
BEGIN:VEVENT
DTSTART;TZID=UTC+1:20170826T210000
DTEND;TZID=UTC+1:20170826T233000
DTSTAMP:20260423T160430
CREATED:20170825T125248Z
LAST-MODIFIED:20170825T125603Z
UID:1654-1503781200-1503790200@www.kinopobjeda.hr
SUMMARY:American Made
DESCRIPTION:\nIZVORNO IME: American Made\nREDATELJ: Doug Liman | ŽANR: kriminalistički\, triler\nULOGE: Tom Cruise\, Domhnall Gleeson\, Sarah Wright\nTRAJANJE FILMA: 115 minuta | GODINA: 2017 | DRŽAVA: SAD \nSADRŽAJ FILMA:\nAmerican Made je istinita biografska priča o pilotu Barryju Sealu koji je krijumčario drogu\, oružje i novac iz Kolumbije u SAD\, te je kasnije angažiran od strane CIA-a za jednu od najvećih tajnih operacija u povijesti SAD-a. \nJedan od producenata filma je i dobitnik nagrade Oscar® za film A Beautiful Min \n \n
URL:http://www.kinopobjeda.hr/raspored/american-made/
CATEGORIES:kriminalistički,triler
END:VEVENT
END:VCALENDAR