BEGIN:VCALENDAR
VERSION:2.0
PRODID:-//Kino Pobjeda Metković - ECPv4.6.8//NONSGML v1.0//EN
CALSCALE:GREGORIAN
METHOD:PUBLISH
X-WR-CALNAME:Kino Pobjeda Metković
X-ORIGINAL-URL:http://www.kinopobjeda.hr
X-WR-CALDESC:Events for Kino Pobjeda Metković
BEGIN:VEVENT
DTSTART;TZID=UTC+1:20181209T170000
DTEND;TZID=UTC+1:20181209T183000
DTSTAMP:20260422T220723
CREATED:20181203T135924Z
LAST-MODIFIED:20181203T135954Z
UID:2582-1544374800-1544380200@www.kinopobjeda.hr
SUMMARY:ASTERIX: TAJNA ČAROBNOG NAPITKA
DESCRIPTION:\nIZVORNO IME: Asterix: The Secret of the Magic Potion\nREDATELJ: Alexandre Astier\, Louis Clichy | ŽANR: animirani\nULOGE: Mario Petreković\, Baby Dooks\, Pero Juričić\, Željko Duvnjak\, Duško Valentić\nTRAJANJE FILMA: 85 minuta | GODINA: 2018 | DRŽAVA: Francuska | PLAKAT FILMA\nPOČETAK PRIKAZIVANJA: 09.12.2018 \nSADRŽAJ FILMA:\nTAJNA ČAROBNOG NAPITKA je nova filmska adaptacija o pustolovinama nepobjedivih junaka koji pred veliko platno dovode cijelu obitelj. U ovoj priči Čudomix odlučuje da je vrijeme za osiguranje budućnosti sela te zajedno s Asterixom i Obelixom kreće u potragu za mladim druidom kojemu može prenijeti tajnu o čarobnom napitku koji osigurava trajnu zaštitu. \n
URL:http://www.kinopobjeda.hr/raspored/asterix-tajna-carobnog-napitka/
END:VEVENT
END:VCALENDAR