BEGIN:VCALENDAR
VERSION:2.0
PRODID:-//Kino Pobjeda Metković - ECPv4.6.8//NONSGML v1.0//EN
CALSCALE:GREGORIAN
METHOD:PUBLISH
X-WR-CALNAME:Kino Pobjeda Metković
X-ORIGINAL-URL:http://www.kinopobjeda.hr
X-WR-CALDESC:Events for Kino Pobjeda Metković
BEGIN:VEVENT
DTSTART;TZID=UTC+1:20210926T173000
DTEND;TZID=UTC+1:20210926T190000
DTSTAMP:20260419T183001
CREATED:20210920T095808Z
LAST-MODIFIED:20210920T095808Z
UID:4005-1632677400-1632682800@www.kinopobjeda.hr
SUMMARY:Avanture obitelji Bigfoot
DESCRIPTION:\nU Kinu ‘Pobjeda’ Metković u nedjelju\, 26. rujna s početkom u 17:30 na rasporedu je animirani film ‘Avanture obitelji Bigfoot’\, sinkroniziran na hrvatski jezik.\nNekoliko mjeseci nakon njihovog ponovnog susreta\, životinje i ljudi žive sretno\, a Adam se polako navikava na svoje nove moći. Sve dok ih njegov otac ponovo ne odluči napustiti kako bi spasio dolinu prljavih poslova naftne tvrtke X Tract. Shelly\, Adam\, Wilbur i Trapper odluče krenuti za njim i istražiti što se zapravo tamo događa. \n  \n
URL:http://www.kinopobjeda.hr/raspored/avanture-obitelji-bigfoot/
CATEGORIES:animirani,sinkronizirano
END:VEVENT
END:VCALENDAR