BEGIN:VCALENDAR
VERSION:2.0
PRODID:-//Kino Pobjeda Metković - ECPv4.6.8//NONSGML v1.0//EN
CALSCALE:GREGORIAN
METHOD:PUBLISH
X-WR-CALNAME:Kino Pobjeda Metković
X-ORIGINAL-URL:http://www.kinopobjeda.hr
X-WR-CALDESC:Events for Kino Pobjeda Metković
BEGIN:VEVENT
DTSTART;TZID=UTC+1:20221216T193000
DTEND;TZID=UTC+1:20221216T224200
DTSTAMP:20260420T012754
CREATED:20221214T090307Z
LAST-MODIFIED:20221214T090307Z
UID:4614-1671219000-1671230520@www.kinopobjeda.hr
SUMMARY:Avatar: Put vode - 3D
DESCRIPTION:\nU Kinu ‘Pobjeda’ Metković u petak\, 16. prosinca s početkom u 19:30 na rasporedu je 3D projekcija filma ‘Avatar: Put vode’.\nRadnja filma “Avatar: Put vode” odvija se više od jednog desetljeća nakon događaja iz prvog dijela. Otkad je odlučio trajno prenijeti ljudsku svijest u svoje tijelo Avatara i postati novi vođa naroda Na’vi\, Jake Sully živi sa svojom obitelji na Pandori. On i Neytiri su osnovali obitelj i dobili djecu. Kolonizirajuće su se snage vratile na Pandoru kako bi završili prvotnu potragu za rijetkim mineralom\, prisiljavajući Jakea i Neytiri da pobjegnu iz svog doma\, istražujući do tada nepoznate dijelove Pandore gdje će se upoznati s ljudima Metkayine\, klanom domorodaca koji žive okruženi morem. \nNapomena: Film ‘AVATAR: PUT VODE’ sadrži nekoliko sekvenci s jakom svjetlošću koja može utjecati na posjetitelje koji su osjetljivi na fotosenzitivnu epilepsiju ili na druge osjetljivosti na svjetlost. \n
URL:http://www.kinopobjeda.hr/raspored/avatar-put-vode-3d/
CATEGORIES:12,akcija,avantura,znanstveno-fantastični
END:VEVENT
END:VCALENDAR