BEGIN:VCALENDAR
VERSION:2.0
PRODID:-//Kino Pobjeda Metković - ECPv4.6.8//NONSGML v1.0//EN
CALSCALE:GREGORIAN
METHOD:PUBLISH
X-WR-CALNAME:Kino Pobjeda Metković
X-ORIGINAL-URL:http://www.kinopobjeda.hr
X-WR-CALDESC:Events for Kino Pobjeda Metković
BEGIN:VEVENT
DTSTART;TZID=UTC+1:20230128T193000
DTEND;TZID=UTC+1:20230128T223800
DTSTAMP:20260420T001406
CREATED:20230124T084108Z
LAST-MODIFIED:20230124T084108Z
UID:4672-1674934200-1674945480@www.kinopobjeda.hr
SUMMARY:Babylon
DESCRIPTION:\nU Kinu ‘Pobjeda’ Metković u subotu. 28. siječnja s početkom u 19:30 na rasporedu je drama ‘Babylon’ – novi film oskarovca Damiena Chazellea s Brad Pittom i Margot Robbie. \n‘Babylon’ je originalna priča epskih razmjera smeštena u Los Angeles  1920- ih. Priča o ogromnoj ambiciji i nečuvenim ekscesima\, prati uspone i padove više likova u počecima Hollywooda. \n  \n
URL:http://www.kinopobjeda.hr/raspored/babylon/
CATEGORIES:18,drama,komedija,povijesni
END:VEVENT
END:VCALENDAR