BEGIN:VCALENDAR
VERSION:2.0
PRODID:-//Kino Pobjeda Metković - ECPv4.6.8//NONSGML v1.0//EN
CALSCALE:GREGORIAN
METHOD:PUBLISH
X-WR-CALNAME:Kino Pobjeda Metković
X-ORIGINAL-URL:http://www.kinopobjeda.hr
X-WR-CALDESC:Events for Kino Pobjeda Metković
BEGIN:VEVENT
DTSTART;TZID=UTC+1:20221019T200000
DTEND;TZID=UTC+1:20221019T215500
DTSTAMP:20260419T183629
CREATED:20221017T091051Z
LAST-MODIFIED:20221017T091051Z
UID:4541-1666209600-1666216500@www.kinopobjeda.hr
SUMMARY:Baš me briga
DESCRIPTION:\nU sklopu programa Rendez-vous au cinéma u Kinu ‘Pobjeda’ Metković u srijedu\, 19. listopada s početkom u 20 sati na rasporedu je francuski film ‘Baš me briga’.\nRedateljski prvijenac etabliranih francuskih filmaša Julie Lecoustre i Emmanuela Marrea premijerno je prikazan u Cannesu prošle godine\, a dodijeljena mu je nagrada Gan Foundation Award for Distribution. \nRadnja filma vrti se oko Cassandre (Adèle Exarchopoulos)\, stjuardese u aviokompaniji koja svoje putnike privlači jeftinim cijenama leta. Ipak\, stalna izmjena lokacija te život u pokretu ispostavlja se kao nadoknada za potisnutu obiteljsku tragediju koju je doživjela Cassandra. \nUlaz na projekciju je slobodan. \nRendez-vous au cinéma provodi se u suradnji s Francuskim institutom\, Hrvatskim audiovizualnim centrom i Kino mrežom. \n  \n
URL:http://www.kinopobjeda.hr/raspored/bas-me-briga/
CATEGORIES:drama,komedija
END:VEVENT
END:VCALENDAR