BEGIN:VCALENDAR
VERSION:2.0
PRODID:-//Kino Pobjeda Metković - ECPv4.6.8//NONSGML v1.0//EN
CALSCALE:GREGORIAN
METHOD:PUBLISH
X-WR-CALNAME:Kino Pobjeda Metković
X-ORIGINAL-URL:http://www.kinopobjeda.hr
X-WR-CALDESC:Events for Kino Pobjeda Metković
BEGIN:VEVENT
DTSTART;TZID=UTC+1:20200214T193000
DTEND;TZID=UTC+1:20200214T213000
DTSTAMP:20260422T080144
CREATED:20200212T133058Z
LAST-MODIFIED:20200212T133058Z
UID:3068-1581708600-1581715800@www.kinopobjeda.hr
SUMMARY:BIRDS OF PREY
DESCRIPTION: \n
URL:http://www.kinopobjeda.hr/raspored/birds-of-prey/
END:VEVENT
END:VCALENDAR