BEGIN:VCALENDAR
VERSION:2.0
PRODID:-//Kino Pobjeda Metković - ECPv4.6.8//NONSGML v1.0//EN
CALSCALE:GREGORIAN
METHOD:PUBLISH
X-WR-CALNAME:Kino Pobjeda Metković
X-ORIGINAL-URL:http://www.kinopobjeda.hr
X-WR-CALDESC:Events for Kino Pobjeda Metković
BEGIN:VEVENT
DTSTART;TZID=UTC+1:20180223T193000
DTEND;TZID=UTC+1:20180223T220000
DTSTAMP:20260423T031349
CREATED:20180220T073910Z
LAST-MODIFIED:20180220T074119Z
UID:2076-1519414200-1519423200@www.kinopobjeda.hr
SUMMARY:Black Panter
DESCRIPTION:\nIZVORNO IME: Black Panther\nREDATELJ: Ryan Coogler | ŽANR: akcija\, avantura\, Sci-Fi\nULOGE: Chadwick Boseman\, Michael B. Jordan\, Lupita Nyong’o\, Danai Gurira\nTRAJANJE FILMA: 134 minuta | GODINA: 2018 | DRŽAVA: SAD |\nDATUM PRIKAZIVANJA: 23.02.2018. U 19\,30\nSADRŽAJ FILMA:\nMarvelov film Black Panther prati T’Challu koji se nakon smrti svog oca\, kralja Wakande\, vraća kući u zatvorenu\, tehnički naprednu afričku državu kako bi zasjeo na prijestolje i postao novim kraljem. Ali tad se ponovo javi stari neprijatelj\, a T’Challin je karakter kralja i Black Panthera stavljen na kušnju kad se uvuče u strašan sukob zbog kojeg je ugrožen opstanak Wakande i cijelog svijeta. Suočen s izdajom i opasnošću\, mladi kralj mora okupiti svoje saveznike i osloboditi moć Black Panthera kako bi porazio svoje neprijatelje i omogućio sigurnost svom narodu i njihovom načinu života. \n \n
URL:http://www.kinopobjeda.hr/raspored/black-panter/
CATEGORIES:akcija,avantura,znanstveno-fantastični
END:VEVENT
END:VCALENDAR