BEGIN:VCALENDAR
VERSION:2.0
PRODID:-//Kino Pobjeda Metković - ECPv4.6.8//NONSGML v1.0//EN
CALSCALE:GREGORIAN
METHOD:PUBLISH
X-WR-CALNAME:Kino Pobjeda Metković
X-ORIGINAL-URL:http://www.kinopobjeda.hr
X-WR-CALDESC:Events for Kino Pobjeda Metković
BEGIN:VEVENT
DTSTART;TZID=UTC+1:20191019T200000
DTEND;TZID=UTC+1:20191019T223000
DTSTAMP:20260422T004532
CREATED:20191016T115636Z
LAST-MODIFIED:20191016T115636Z
UID:2948-1571515200-1571524200@www.kinopobjeda.hr
SUMMARY:Blizanac
DESCRIPTION:IZVORNO IME: Gemini Man\nREDATELJ: Ang Lee | ŽANR: akcija\, SF\nULOGE: Will Smith\, Mary Elizabeth Winstead\, Clive Owen\nTRAJANJE FILMA: 117 minuta | GODINA: 2019 | DRŽAVA: SAD | PLAKAT FILMA\nPOČETAK PRIKAZIVANJA: Petak 18.10. i subota 19.10. u 20 sati \nSADRŽAJ FILMA:\nWill Smith glumi Henryja Brogana\, elitnog ubojicu\, koji iznenada postaje meta tajanstvenog mladog operativca koji naizgled može predvidjeti svaki njegov potez. Producenti su Jerry Bruckheimer\, David Ellison\, Dana Goldberg i Don Granger. U filmu glume još i Mary Elizabeth Winstead\, Clive Owen i Benedict Wong. \n \n
URL:http://www.kinopobjeda.hr/raspored/blizanac-2/
CATEGORIES:12,akcija,znanstveno-fantastični
END:VEVENT
END:VCALENDAR