BEGIN:VCALENDAR
VERSION:2.0
PRODID:-//Kino Pobjeda Metković - ECPv4.6.8//NONSGML v1.0//EN
CALSCALE:GREGORIAN
METHOD:PUBLISH
X-WR-CALNAME:Kino Pobjeda Metković
X-ORIGINAL-URL:http://www.kinopobjeda.hr
X-WR-CALDESC:Events for Kino Pobjeda Metković
BEGIN:VEVENT
DTSTART;TZID=UTC+1:20210320T193000
DTEND;TZID=UTC+1:20210320T211000
DTSTAMP:20260421T034321
CREATED:20210313T171527Z
LAST-MODIFIED:20210313T171527Z
UID:3735-1616268600-1616274600@www.kinopobjeda.hr
SUMMARY:Boss Level
DESCRIPTION:\n  \nU Kinu ‘Pobjeda’ Metković u subotu\, 20. ožujka u 19:30 održat će se projekcija filma ‘Boss Level’ – dinamična i ultra zabavna akcijska crna komedija hvaljenog redatelja Joea Caranhana.\nUmirovljeni vojni specijalac Roy Pulver (F. Grillo) iznova proživljava jedan te isti dan koji uvijek završava njegovom brutalnom smrću od strane nepoznatih mu plaćenika ili prilikom bježanja od istih. Svakim novim buđenjem nakon likvidacije\, Roy skuplja djelić po djelić informacija koja bi ga trebala dovesti do odgovora tko ga želi ubiti i zašto se neprestano vraća iz mrtvih te ponavlja taj kobni dan? \nIspravljajući stvari\, Roy može postati najbolja verzija sebe – ako se može spasiti od ponovne smrti. \n  \n
URL:http://www.kinopobjeda.hr/raspored/boss-level/
CATEGORIES:15,akcija,triler,znanstveno-fantastični
END:VEVENT
END:VCALENDAR