BEGIN:VCALENDAR
VERSION:2.0
PRODID:-//Kino Pobjeda Metković - ECPv4.6.8//NONSGML v1.0//EN
CALSCALE:GREGORIAN
METHOD:PUBLISH
X-WR-CALNAME:Kino Pobjeda Metković
X-ORIGINAL-URL:http://www.kinopobjeda.hr
X-WR-CALDESC:Events for Kino Pobjeda Metković
BEGIN:VEVENT
DTSTART;TZID=UTC+1:20171216T193000
DTEND;TZID=UTC+1:20171216T213000
DTSTAMP:20260423T095047
CREATED:20171212T094116Z
LAST-MODIFIED:20171212T094618Z
UID:1825-1513452600-1513459800@www.kinopobjeda.hr
SUMMARY:Božić kod zločestih mama
DESCRIPTION:\nBOŽIĆ KOD ZLOČESTIH MAMA\nIZVORNO IME: A Bad Moms Christmas \n\nREDATELJ: Jon Lucas\, Scott Moore   |  ŽANR: komedija\n\nULOGE: Mila Kunis\,  Kathryn Hahn\,  Kristen Bell\n\nTRAJANJE FILMA: 116 minuta  |  GODINA: 2017  |  DRŽAVA: Kina\, SAD  |\nDATUM PRIKAZIVANJA: 16.12.2017. U 19\,30\nDatum prikazivanja je informativnog karaktera i kao takav je podložan promjenama.\n\nSADRŽAJ FILMA:Mila Kunis\, Kristen Bell i Kathryn Hahn repriziraju svoje uloge u komediji smještenoj u dobrostojeće čikaško predgrađe kojim vladaju chic supermame i odlučuju o tome što je prihvatljivo ponašanje\, a što nije.\nVeseli trojac će se ovaj put suočiti sa stresom koji sa sobom donose blagdani s obitelji.\nEkipi se pridružuju i Susan Sarandon koja će glumiti Carlinu majku (Hahn)\, Christine Baranski Amyinu (Kunis)\, a Cheryl Hines Kikinu majku (Bell).\n\n
URL:http://www.kinopobjeda.hr/raspored/bozic-kod-zlocestih-mama/
CATEGORIES:komedija
END:VEVENT
END:VCALENDAR