BEGIN:VCALENDAR
VERSION:2.0
PRODID:-//Kino Pobjeda Metković - ECPv4.6.8//NONSGML v1.0//EN
CALSCALE:GREGORIAN
METHOD:PUBLISH
X-WR-CALNAME:Kino Pobjeda Metković
X-ORIGINAL-URL:http://www.kinopobjeda.hr
X-WR-CALDESC:Events for Kino Pobjeda Metković
BEGIN:VEVENT
DTSTART;TZID=UTC+1:20180203T193000
DTEND;TZID=UTC+1:20180203T220000
DTSTAMP:20260423T031536
CREATED:20180129T101330Z
LAST-MODIFIED:20180129T101456Z
UID:1978-1517686200-1517695200@www.kinopobjeda.hr
SUMMARY:Bratstvo lopova
DESCRIPTION:\nIZVORNO IME: Den of Thieves\nREDATELJ: Christian Gudegast | ŽANR: akcija\, triler\nULOGE: Gerard Butler\, Pablo Schreiber\, O’Shea Jackson Jr.\, Curtis 50 Cent Jackson\nTRAJANJE FILMA: 140 minuta | GODINA: 2018 | DRŽAVA: SAD\nPOČETAK PRIKAZIVANJA: 18.01.2018 \nSADRŽAJ FILMA:\nPriča prati legendarnu ekipu pljačkaša banaka koja planiraju veliku\, finalnu pljačku federalne rezerve u Los Angelesu\, i to žele izvesti točno ispred nosa elitnih policijskih jedinica tog grada. Film se radnjom fokusira na živote kriminalaca\, kao i na živote pripadnika elitnih policijskih jedinica Los Angelesa… \nGlumačku postavu čine Gerard Butler\, Curtis ’50 Cent’ Jackson\, Pablo Schreiber\, O’Shea Jackson\, Jr.\, Evan Jones\, Cooper Anderson\, Maurice Compte\, Kaiwai Lyman-Mersereau\, Mo McRae\, Meadow Williams i Brian Van Holt. \n \n  \n  \n
URL:http://www.kinopobjeda.hr/raspored/bratstvo-lopova/
CATEGORIES:akcija,triler
END:VEVENT
END:VCALENDAR