BEGIN:VCALENDAR
VERSION:2.0
PRODID:-//Kino Pobjeda Metković - ECPv4.6.8//NONSGML v1.0//EN
CALSCALE:GREGORIAN
METHOD:PUBLISH
X-WR-CALNAME:Kino Pobjeda Metković
X-ORIGINAL-URL:http://www.kinopobjeda.hr
X-WR-CALDESC:Events for Kino Pobjeda Metković
BEGIN:VEVENT
DTSTART;TZID=UTC+1:20210625T200000
DTEND;TZID=UTC+1:20210625T222000
DTSTAMP:20260421T001536
CREATED:20210620T161451Z
LAST-MODIFIED:20210620T161451Z
UID:3919-1624651200-1624659600@www.kinopobjeda.hr
SUMMARY:Brzi i žestoki 9
DESCRIPTION:\n  \nU Kinu ‘Pobjeda’ Metković u petak\, 25. lipnja u 20 sati održat će se projekcija filma ‘Brzi i žestoki 9’.\nDom Toretto (Dom) mirno živi sa svojom ženom Letty (Michelle Rodrigez) i sinom\, malim Brianom\, ali je svjestan da opasnost vreba. Ovog puta\, opasnost će natjerati Doma da se suoči sa svojom prošlosti ako želi spasiti najbliže. Dom još jednom mora okupiti Brze i žestoke kako bi se obranili od nove opasnosti u obliku profesionalnog ubojice Jacoba (John Cena) koji je ujedno i Domov brat. Napeta akcijska avantura odvija se od Londona preko Središnje Amerike do Edinburgha. \n  \n
URL:http://www.kinopobjeda.hr/raspored/brzi-i-zestoki-9/
CATEGORIES:12,akcija,triler
END:VEVENT
END:VCALENDAR