BEGIN:VCALENDAR
VERSION:2.0
PRODID:-//Kino Pobjeda Metković - ECPv4.6.8//NONSGML v1.0//EN
CALSCALE:GREGORIAN
METHOD:PUBLISH
X-WR-CALNAME:Kino Pobjeda Metković
X-ORIGINAL-URL:http://www.kinopobjeda.hr
X-WR-CALDESC:Events for Kino Pobjeda Metković
BEGIN:VEVENT
DTSTART;TZID=UTC+1:20230526T200000
DTEND;TZID=UTC+1:20230526T222100
DTSTAMP:20260419T193403
CREATED:20230524T090016Z
LAST-MODIFIED:20230524T090016Z
UID:4874-1685131200-1685139660@www.kinopobjeda.hr
SUMMARY:Brzi i žestoki 10
DESCRIPTION:\nAkcijski triler ‘Brzi i žestoki 10’\, posljednje poglavlje jedne od najpoznatijih i najpopularnijih globalnih franšiza u kinematografiji\, na rasporedu je u petak\, 26. svibnja s početkom u 20 sati.\nTijekom mnogih misija i protiv nemogućih izgleda\, Dom Toretto (Vin Diesel) i njegova obitelj nadmudrili su\, iznervirali i nadmašili svakog neprijatelja na svom putu. Sada se suočavaju s najsmrtonosnijim protivnikom s kojim su se ikad suočili: zastrašujućom prijetnjom koja izranja iz sjena prošlosti\, potaknuta krvnom osvetom i koja je odlučna razbiti ovu obitelj i uništiti sve—i svakoga—što Dom voli\, zauvijek. \nU filmu Brzi i žestoki 5 iz 2011. Dom i njegova ekipa ubili su zlog brazilskog narkobosa Hernana Reyesa i odrubili mu carstvo na mostu u Rio De Janeiru. Ono što nisu znali je da je Reyesov sin\, Dante (Jason Momoa)\, svjedočio svemu tome i proveo posljednjih 12 godina smišljajući plan kako natjerati Doma da plati najveću cijenu. Danteov zaplet raspršit će Domovu obitelj od Los Angelesa do rimskih katakombi\, od Brazila do Londona i od Portugala do Antarktika. Stvorit će se novi saveznici i ponovno će se pojaviti stari neprijatelji. Ali sve se mijenja kada Dom otkrije da je njegov vlastiti 8-godišnji sin (Leo Abelo Perry\, Black-ish) krajnja meta Danteove osvete. \n  \n
URL:http://www.kinopobjeda.hr/raspored/brzi-zestoki-10/
CATEGORIES:12,akcija,triler
END:VEVENT
END:VCALENDAR