BEGIN:VCALENDAR
VERSION:2.0
PRODID:-//Kino Pobjeda Metković - ECPv4.6.8//NONSGML v1.0//EN
CALSCALE:GREGORIAN
METHOD:PUBLISH
X-WR-CALNAME:Kino Pobjeda Metković
X-ORIGINAL-URL:http://www.kinopobjeda.hr
X-WR-CALDESC:Events for Kino Pobjeda Metković
BEGIN:VEVENT
DTSTART;TZID=UTC+1:20220820T200000
DTEND;TZID=UTC+1:20220820T220600
DTSTAMP:20260420T023604
CREATED:20220812T074844Z
LAST-MODIFIED:20220812T074844Z
UID:4499-1661025600-1661033160@www.kinopobjeda.hr
SUMMARY:Brzina metka
DESCRIPTION:\nU Kinu ‘Pobjeda’ Metković u subotu\, 20. kolovoza s početkom u 20 sati na rasporedu je akcijski film ‘Brzina metka’ s Bradom Pittom u glavnoj ulozi.\nBrad Pitt glumi Bubamaru (Ladybug)\, nesretnog ubojicu koji je odlučio obavljati svoj posao na mirniji način nakon što su neke misije pošle po zlu. Ipak\, sudbina može imati drugačije planove jer Bubamaru nova misija dovodi u sukob sa smrtonosnim ubojicama iz cijelog svijeta – svi s povezanim\, ali suprotstavljenim ciljevima u najbržem vlaku na svijetu… i stoga mora pronaći način kako pobjeći. Od redatelja filma Deadpool 2\, Davida Leitcha\, kraj puta tek je početak divlje\, nezaustavljive i uzbudljive vožnje kroz moderni Japan. \n  \n
URL:http://www.kinopobjeda.hr/raspored/brzina-metka/
CATEGORIES:15,akcija
END:VEVENT
END:VCALENDAR