BEGIN:VCALENDAR
VERSION:2.0
PRODID:-//Kino Pobjeda Metković - ECPv4.6.8//NONSGML v1.0//EN
CALSCALE:GREGORIAN
METHOD:PUBLISH
X-WR-CALNAME:Kino Pobjeda Metković
X-ORIGINAL-URL:http://www.kinopobjeda.hr
X-WR-CALDESC:Events for Kino Pobjeda Metković
BEGIN:VEVENT
DTSTART;TZID=UTC+1:20210417T173000
DTEND;TZID=UTC+1:20210417T190000
DTSTAMP:20260421T035204
CREATED:20210412T131504Z
LAST-MODIFIED:20210412T131504Z
UID:3778-1618680600-1618686000@www.kinopobjeda.hr
SUMMARY:Čarobni prolaz
DESCRIPTION:\nU Kinu ‘Pobjeda’ Metković u subotu\, 17. travnja s početkom u 17:30 održat će se projekcija animiranoga filma ‘Čarobni prolaz’ – priča o dva prijatelja koji su došli do fantastičnog otkrića. Uzbudljiva i živopisna avantura odvest će vašu obitelj u morske dubine\, u krajolike očaravajuće ljepote\, ali i velike opasnosti.\nPriča prati mladog dupina bujne mašte i njegovog najboljeg prijatelja koji neprestano otkrivaju nova mjesta za istraživanje – pronalaze brojne čarobne predmete\, za koje nitko ne vjeruje da su zapravo stvarni. Jednog dana otkriju čarobni prolaz koji ih može pretvoriti u ono što žele postati. Nažalost\, jegulje su otkrile njihovu tajnu i odlučili su prolaz iskoristiti za preuzimanje Ribljeg grada. Kako priča napreduje\, dupini se moraju utrkivati s vremenom kako bi spasili svoj grad. \nS nizom ljupkih detalja\, odličnim glumcima koji su sinkronizirali film i\, dakako\, savršenom najmodernijom tehnikom animacije\, ovaj film pravo je uživanje za oči i osjećaje. \n  \n
URL:http://www.kinopobjeda.hr/raspored/carobni-prolaz/
CATEGORIES:animirani,sinkronizirano
END:VEVENT
END:VCALENDAR