BEGIN:VCALENDAR
VERSION:2.0
PRODID:-//Kino Pobjeda Metković - ECPv4.6.8//NONSGML v1.0//EN
CALSCALE:GREGORIAN
METHOD:PUBLISH
X-WR-CALNAME:Kino Pobjeda Metković
X-ORIGINAL-URL:http://www.kinopobjeda.hr
X-WR-CALDESC:Events for Kino Pobjeda Metković
BEGIN:VEVENT
DTSTART;TZID=UTC+1:20180921T200000
DTEND;TZID=UTC+1:20180921T220000
DTSTAMP:20260423T125626
CREATED:20180921T070247Z
LAST-MODIFIED:20180921T070247Z
UID:2453-1537560000-1537567200@www.kinopobjeda.hr
SUMMARY:ČASNA
DESCRIPTION:\nIZVORNO IME: The Nun\nREDATELJ: Corin Hardy | ŽANR: horor\nULOGE: Taissa Farmiga\, Bonnie Aarons\, Demián Bichir\nTRAJANJE FILMA: 96 minuta | GODINA: 2018 | DRŽAVA: SAD | PLAKAT FILMA\nPOČETAK PRIKAZIVANJA: 06.09.2018 \nSADRŽAJ FILMA:\nKada si časna u Rumunjskoj oduzme život\, Vatikan će poslati svećenika i časnu da istraže njezinu smrt. Zajedno otkrivaju ne baš svetu tajnu. Riskirajući ne samo svoje živote\, već i vjeru i svoje duše\, suočavaju se sa zlonamjernom silom u obliku iste demonske časne koja je terorizirala publiku u filmu Prizivanja 2. \n
URL:http://www.kinopobjeda.hr/raspored/casna/
END:VEVENT
END:VCALENDAR