BEGIN:VCALENDAR
VERSION:2.0
PRODID:-//Kino Pobjeda Metković - ECPv4.6.8//NONSGML v1.0//EN
CALSCALE:GREGORIAN
METHOD:PUBLISH
X-WR-CALNAME:Kino Pobjeda Metković
X-ORIGINAL-URL:http://www.kinopobjeda.hr
X-WR-CALDESC:Events for Kino Pobjeda Metković
BEGIN:VEVENT
DTSTART;TZID=UTC+1:20230310T193000
DTEND;TZID=UTC+1:20230310T212600
DTSTAMP:20260419T221621
CREATED:20230307T085444Z
LAST-MODIFIED:20230307T085444Z
UID:4749-1678476600-1678483560@www.kinopobjeda.hr
SUMMARY:Creed III
DESCRIPTION:\nU Kinu ‘Pobjeda’ Metković u petak\, 10. ožujka s početkom u 19:30 na rasporedu je sportska akcijska drama ‘Creed III’ – treći dio poznate boksačke franšize.\nNakon uspjeha u svijetu boksa\, Adonis Creed napreduje i u karijeri i u obiteljskom životu. Kada se nakon odslužene zatvorske kazne pojavi njegov prijatelj iz djetinjstva\, i nekadašnje boksačko čudo\, Damian (Jonathan Majors) će zaželjeti priliku u ringu. Sučeljavanje bivših prijatelja više je od obične tučnjave. Kako bi poravnao račune\, Adonis mora staviti svoju budućnost na kocku kako bi se borio protiv Damiana – borca koji nema što izgubiti. \n  \n
URL:http://www.kinopobjeda.hr/raspored/creed-iii/
CATEGORIES:12,akcija,drama
END:VEVENT
END:VCALENDAR