BEGIN:VCALENDAR
VERSION:2.0
PRODID:-//Kino Pobjeda Metković - ECPv4.6.8//NONSGML v1.0//EN
CALSCALE:GREGORIAN
METHOD:PUBLISH
X-WR-CALNAME:Kino Pobjeda Metković
X-ORIGINAL-URL:http://www.kinopobjeda.hr
X-WR-CALDESC:Events for Kino Pobjeda Metković
BEGIN:VEVENT
DTSTART;TZID=UTC+1:20220630T200000
DTEND;TZID=UTC+1:20220630T214300
DTSTAMP:20260420T071407
CREATED:20220627T111056Z
LAST-MODIFIED:20220627T111056Z
UID:4448-1656619200-1656625380@www.kinopobjeda.hr
SUMMARY:Crni telefon
DESCRIPTION:\nU Kinu ‘Pobjeda’ Metković u četvrtak\, 30. lipnja s početkom u 20 sati na rasporedu je novi horor triler ‘Crni telefon’.\nFinneyja Shawa\, sramežljivog\, ali pametnog 13-godišnjeg dječaka\, otima sadistički ubojica i zarobljuje ga u zvučno izoliranom podrumu u kojemu vrištanje nema nikakve koristi. Kada isključeni telefon na zidu počne zvoniti\, Finney otkriva da može čuti glasove ubojičinih prijašnjih žrtava koje su odlučne u tome da se ono što se njima dogodilo ne dogodi i Finneyju. \n
URL:http://www.kinopobjeda.hr/raspored/crni-telefon/
CATEGORIES:15,horor,triler
END:VEVENT
END:VCALENDAR