BEGIN:VCALENDAR
VERSION:2.0
PRODID:-//Kino Pobjeda Metković - ECPv4.6.8//NONSGML v1.0//EN
CALSCALE:GREGORIAN
METHOD:PUBLISH
X-WR-CALNAME:Kino Pobjeda Metković
X-ORIGINAL-URL:http://www.kinopobjeda.hr
X-WR-CALDESC:Events for Kino Pobjeda Metković
BEGIN:VEVENT
DTSTART;TZID=UTC+1:20210529T200000
DTEND;TZID=UTC+1:20210529T221300
DTSTAMP:20260421T023227
CREATED:20210525T074719Z
LAST-MODIFIED:20210525T074719Z
UID:3884-1622318400-1622326380@www.kinopobjeda.hr
SUMMARY:Cruella
DESCRIPTION:\nU Kinu ‘Pobjeda’ Metković u subotu\, 29. svibnja u 20 sati na rasporedu je komedija ‘Cruella’. Smješten u London 1970-ih\, film istražuje kako je zapravo nastala Zlica od Opaka\, jedna od istovremeno najstrašnijih i najdražih Disneyjevih zlikovica! \nU želji da postane slavna dizajnerica Cruella stiže u London. Njen osjećaj za modu primjećuje barunica Von Hellman\, inače modna legenda. Ali njihov odnos pokreće niz događaja i otkrića koja će dovesti do toga da Cruella oslobodi svoju opaku stranu i postane osvetoljubiva Zlica od Opaka. \n  \n
URL:http://www.kinopobjeda.hr/raspored/cruella/
CATEGORIES:12,akcija,komedija
END:VEVENT
END:VCALENDAR