BEGIN:VCALENDAR
VERSION:2.0
PRODID:-//Kino Pobjeda Metković - ECPv4.6.8//NONSGML v1.0//EN
CALSCALE:GREGORIAN
METHOD:PUBLISH
X-WR-CALNAME:Kino Pobjeda Metković
X-ORIGINAL-URL:http://www.kinopobjeda.hr
X-WR-CALDESC:Events for Kino Pobjeda Metković
BEGIN:VEVENT
DTSTART;TZID=UTC+1:20220312T170000
DTEND;TZID=UTC+1:20220312T184000
DTSTAMP:20260420T135357
CREATED:20220309T090004Z
LAST-MODIFIED:20220309T090004Z
UID:4312-1647104400-1647110400@www.kinopobjeda.hr
SUMMARY:Crvena panda
DESCRIPTION:\nU Kinu ‘Pobjeda’ Metković u subotu\, 12. ožujka u 17 sati na rasporedu je animirani film ‘Crvena panda’\, sinkroniziran na hrvatski jezik.\nRiječ je o novoj avanturi studija Disney i Pixar\, a u središtu radnje je tinejdžerica Mei Lee koja se pretvara u ogromnu crvenu pandu kada je pod stresom ili kada je jako uzbuđena (što je gotovo stalno). I kao da promjene u njezinim interesima\, odnosima i tijelu nisu dovoljne\, njezina pretjerano zaštitnički nastrojena\, ako ne i pomalo nadmoćna majka Ming\, nikad nije daleko od svoje kćeri – zapravo dosta nezgodna stvar za svakog tinejdžera. \n  \n
URL:http://www.kinopobjeda.hr/raspored/crvena-panda/
CATEGORIES:animirani,sinkronizirano
END:VEVENT
END:VCALENDAR