BEGIN:VCALENDAR
VERSION:2.0
PRODID:-//Kino Pobjeda Metković - ECPv4.6.8//NONSGML v1.0//EN
CALSCALE:GREGORIAN
METHOD:PUBLISH
X-WR-CALNAME:Kino Pobjeda Metković
X-ORIGINAL-URL:http://www.kinopobjeda.hr
X-WR-CALDESC:Events for Kino Pobjeda Metković
BEGIN:VEVENT
DTSTART;TZID=UTC+1:20180303T193000
DTEND;TZID=UTC+1:20180303T220000
DTSTAMP:20260423T032003
CREATED:20180227T102401Z
LAST-MODIFIED:20180227T102401Z
UID:2102-1520105400-1520114400@www.kinopobjeda.hr
SUMMARY:Crveni vrabac (subota)
DESCRIPTION:\nIZVORNO IME: Red Sparrow\nREDATELJ: Francis Lawrence | ŽANR: triler\nULOGE: Jennifer Lawrence\, Joel Edgerton\, Jeremy Irons\nTRAJANJE FILMA: 140 minuta | GODINA: 2018 | DRŽAVA: SAD |\nDATUM PRIKAZIVANJA: 02.03. I 3.3. 2018. U 19\,30 \nSADRŽAJ FILMA:\nTemeljeno na bestseleru New York Timesa\, radnja se odvija se u suvremenoj Rusiji\, a prati život Dominike Egorove (Jennifer Lawrence). Dominika je puno toga. Predana kći koja će zaštititi svoju majku pod svaku cijenu. Prima balerina koja je svoj um i tijelo dovela do apsolutnih granica. Stručnjakinja u zavođenju i manipulaciji. Kada zbog ozljede mora prestati sa svojom karijerom\, Dominika i njena majka bivaju suočene s neizvjesnom i tamnom budućnošću. Protiv njezine volje naređeno joj je se prijavi u Sparrow School\, tajnu obavještajnu službu koja obučava mlade ljude da koriste svoje tijelo i um kao oružje. \n \n
URL:http://www.kinopobjeda.hr/raspored/crveni-vrabac-subota/
CATEGORIES:triler
END:VEVENT
END:VCALENDAR