BEGIN:VCALENDAR
VERSION:2.0
PRODID:-//Kino Pobjeda Metković - ECPv4.6.8//NONSGML v1.0//EN
CALSCALE:GREGORIAN
METHOD:PUBLISH
X-WR-CALNAME:Kino Pobjeda Metković
X-ORIGINAL-URL:http://www.kinopobjeda.hr
X-WR-CALDESC:Events for Kino Pobjeda Metković
BEGIN:VEVENT
DTSTART;TZID=UTC+1:20210926T200000
DTEND;TZID=UTC+1:20210926T214300
DTSTAMP:20260419T172123
CREATED:20210920T100424Z
LAST-MODIFIED:20210920T100424Z
UID:4011-1632686400-1632692580@www.kinopobjeda.hr
SUMMARY:Cry Macho
DESCRIPTION:\n  \nU Kinu ‘Pobjeda’ Metković u nedjelju\, 26. rujna s početkom u 20 sati gledamo film ‘Cry Macho’ – posljednji oproštajni film slavnog redatelja i glumca\, četverostrukog dobitnika Oscara Clinta Eastwooda!\n‘Cry Macho’ je ekranizacija istoimenog romana N. Richarda Nasha iz 1975. godine. Eastwood glumi Mikea Miloa\, nekadašnju zvijezda rodea i isluženog uzgajivača konja koji 1979. preuzima posao dovođenja sina svog bivšeg šefa iz Meksika. Prisiljeni krenuti zaobilaznim putovima iz Meksika prema Teksasu\, neobični par suočava se s neočekivano izazovnim putovanjem\, tijekom kojeg od svijeta umorni konjanik pronalazi neočekivane veze i vlastiti osjećaj iskupljenja. \n
URL:http://www.kinopobjeda.hr/raspored/cry-macho/
CATEGORIES:12,drama,triler,western
END:VEVENT
END:VCALENDAR