BEGIN:VCALENDAR
VERSION:2.0
PRODID:-//Kino Pobjeda Metković - ECPv4.6.8//NONSGML v1.0//EN
CALSCALE:GREGORIAN
METHOD:PUBLISH
X-WR-CALNAME:Kino Pobjeda Metković
X-ORIGINAL-URL:http://www.kinopobjeda.hr
X-WR-CALDESC:Events for Kino Pobjeda Metković
BEGIN:VEVENT
DTSTART;TZID=UTC+1:20221126T170000
DTEND;TZID=UTC+1:20221126T184200
DTSTAMP:20260420T001440
CREATED:20221122T103737Z
LAST-MODIFIED:20221122T103737Z
UID:4600-1669482000-1669488120@www.kinopobjeda.hr
SUMMARY:Čudesan svijet
DESCRIPTION:\n  \nU Kinu ‘Pobjeda’ Metković u subotu\, 26. studenoga s početkom u 17 sati na rasporedu je projekcija animiranoga filma ‘Čudesan svijet’\, sinkroniziran na hrvatski jezik.\nOriginalna obiteljska akcijska avantura studija Walt Disney Animation predstavlja legendarnu obitelj istraživača koja pokušava ploviti neistraženom\, tajanstvenom zemljom zajedno sa šarolikom ekipom koja uključuje nestašnu mrlju\, tronožnog psa i mnoštvo proždrljivih stvorenja. \n  \n
URL:http://www.kinopobjeda.hr/raspored/cudesan-svijet/
CATEGORIES:animirani,sinkronizirano
END:VEVENT
END:VCALENDAR