BEGIN:VCALENDAR
VERSION:2.0
PRODID:-//Kino Pobjeda Metković - ECPv4.6.8//NONSGML v1.0//EN
CALSCALE:GREGORIAN
METHOD:PUBLISH
X-WR-CALNAME:Kino Pobjeda Metković
X-ORIGINAL-URL:http://www.kinopobjeda.hr
X-WR-CALDESC:Events for Kino Pobjeda Metković
BEGIN:VEVENT
DTSTART;TZID=UTC+1:20230624T200000
DTEND;TZID=UTC+1:20230624T214300
DTSTAMP:20260421T031737
CREATED:20230620T105425Z
LAST-MODIFIED:20230620T105425Z
UID:4923-1687636800-1687642980@www.kinopobjeda.hr
SUMMARY:Cura za sve
DESCRIPTION:\nU Kinu ‘Pobjeda’ Metković u subotu\, 24. lipnja s početkom u 20 sati na rasporedu je komedija ‘Cura za sve’.\nNa rubu gubitka doma iz djetinjstva\, Maddie (Lawrence) nailazi na neobični oglas za posao: bogati i prebrižni roditelji traže osobu koja će izlaziti s njihovim introvertnim 19-godišnjim sinom\, Percyjem\, prije nego što ode na fakultet. Na vlastito iznenađenje\, Maddie ubrzo otkriva da to neće biti lagan zadatak. \n  \n
URL:http://www.kinopobjeda.hr/raspored/cura-za-sve/
CATEGORIES:15,komedija
END:VEVENT
END:VCALENDAR