BEGIN:VCALENDAR
VERSION:2.0
PRODID:-//Kino Pobjeda Metković - ECPv4.6.8//NONSGML v1.0//EN
CALSCALE:GREGORIAN
METHOD:PUBLISH
X-WR-CALNAME:Kino Pobjeda Metković
X-ORIGINAL-URL:http://www.kinopobjeda.hr
X-WR-CALDESC:Events for Kino Pobjeda Metković
BEGIN:VEVENT
DTSTART;TZID=UTC+1:20230505T200000
DTEND;TZID=UTC+1:20230505T223000
DTSTAMP:20260419T221707
CREATED:20230503T072933Z
LAST-MODIFIED:20230503T072933Z
UID:4837-1683316800-1683325800@www.kinopobjeda.hr
SUMMARY:Čuvari Galaksije Vol. 3
DESCRIPTION:\nU Kinu ‘Pobjeda’ Metković u petak\, 5. svibnja s početkom u 20 sati na rasporedu je film ‘Čuvari Galaksije: Vol 3’. U trećem Marvelovom filmu redatelja Jamesa Gunna gledamo mnoga poznata lica.\nU novoj uzbudljivoj priči o Čuvarima galaksije\, naša omiljena grupa neprilagođenih izgleda malo drugačije. Peter Quill\, koji još uvijek tuguje zbog gubitka Gamore\, mora okupiti svoj tim kako bi obranio svemir i zaštitio jednog od svojih. Misija koja bi\, ako se ne završi uspješno\, vrlo vjerojatno mogla dovesti do kraja Čuvara kakve poznajemo. \n*Napomena: Film „Čuvari Galaksije 3“ sadrži nekoliko sekvenci s jakom svjetlošću koja može utjecati na posjetitelje koji su osjetljivi na fotosenzitivnu epilepsiju ili na druge osjetljivosti na svjetlost. \n
URL:http://www.kinopobjeda.hr/raspored/cuvari-galaksije-vol-3/
CATEGORIES:12,akcija,avantura,komedija
END:VEVENT
END:VCALENDAR