BEGIN:VCALENDAR
VERSION:2.0
PRODID:-//Kino Pobjeda Metković - ECPv4.6.8//NONSGML v1.0//EN
CALSCALE:GREGORIAN
METHOD:PUBLISH
X-WR-CALNAME:Kino Pobjeda Metković
X-ORIGINAL-URL:http://www.kinopobjeda.hr
X-WR-CALDESC:Events for Kino Pobjeda Metković
BEGIN:VEVENT
DTSTART;TZID=UTC+1:20230121T170000
DTEND;TZID=UTC+1:20230121T182200
DTSTAMP:20260420T061332
CREATED:20230117T103832Z
LAST-MODIFIED:20230117T103832Z
UID:4645-1674320400-1674325320@www.kinopobjeda.hr
SUMMARY:Cvrčak i mravica
DESCRIPTION:\nU Kinu ‘Pobjeda’ Metković u subotu\, 21. siječnja s početkom u 17 sati na rasporedu je animirani film ‘Cvrčak i mravica’\, sinkroniziran na hrvatski jezik.\nRadi se o svojevrsnoj adaptaciji Ezopove basne i priče Darka Bakliže. Radnja je prilagođena današnjem vremenu i promiče toleranciju i suživot kroz zbližavanje Cvrčka i Mravice koji uspijevaju pomiriti dva suprotstavljena svjetonazora. \nU novom viđenju basne ispričane od strane Ezopa i La Fontainea\, Ket je cvrčak koji svira gitaru sa svojim bandom\, zabavljajući bezbrižne kukce u okolici. Nedaleko živi mravlja princeza Antoneta\, u mravinjaku gdje se cijeni samo disciplina i rad\, dok je glazba zabranjena. Kad se slučajno susretnu\, među njima se rađa bliskost. Shvativši da cvrčci ne mogu preživjeti zimu\, Antoneta ih želi spasiti\, ali bezuspješno. No kad ju otme pokvareni mrav Anteodor\, cvrčci predvođeni Ketom priskaču joj u pomoć. \n  \n
URL:http://www.kinopobjeda.hr/raspored/cvrcak-i-mravica/
CATEGORIES:animirani,sinkronizirano
END:VEVENT
END:VCALENDAR