BEGIN:VCALENDAR
VERSION:2.0
PRODID:-//Kino Pobjeda Metković - ECPv4.6.8//NONSGML v1.0//EN
CALSCALE:GREGORIAN
METHOD:PUBLISH
X-WR-CALNAME:Kino Pobjeda Metković
X-ORIGINAL-URL:http://www.kinopobjeda.hr
X-WR-CALDESC:Events for Kino Pobjeda Metković
BEGIN:VEVENT
DTSTART;TZID=UTC+1:20210430T200000
DTEND;TZID=UTC+1:20210430T220000
DTSTAMP:20260421T011556
CREATED:20210424T151935Z
LAST-MODIFIED:20210424T151935Z
UID:3815-1619812800-1619820000@www.kinopobjeda.hr
SUMMARY:Dani gnjeva
DESCRIPTION:\nU Kinu „Pobjeda“ Metković u petak\, 30. travnja u 20 sati na rasporedu je akcijski film „Dani gnjeva“ s jednom od najpopularnijih akcijskih zvijezda današnjice – Jasonom Stathamom.\nPriča slijedi misterioznog H\, zaštitara opakog pogleda koji radi za tvrtku koja prevozi novac u Los Angelesu i koji je odgovoran za prijevoz milijuna dolara po gradu. Tijekom pljačke vozila za koje su bili zaduženi\, njegovi kolege ostaju iznenađeni preciznošću i vještinama koje će H pokazati i pitaju se tko je on zapravo i odakle je došao. \nKao što to uvijek biva u Ritchijevim inače zanatski perfektnim akcijama\, i ovaj film obiluje uvrnutim detaljima i epskim dijalozima koji će se prepričavati godinama. \n  \n
URL:http://www.kinopobjeda.hr/raspored/dani-gnjeva/
CATEGORIES:15,akcija,triler
END:VEVENT
END:VCALENDAR