BEGIN:VCALENDAR
VERSION:2.0
PRODID:-//Kino Pobjeda Metković - ECPv4.6.8//NONSGML v1.0//EN
CALSCALE:GREGORIAN
METHOD:PUBLISH
X-WR-CALNAME:Kino Pobjeda Metković
X-ORIGINAL-URL:http://www.kinopobjeda.hr
X-WR-CALDESC:Events for Kino Pobjeda Metković
BEGIN:VEVENT
DTSTART;TZID=UTC+1:20220730T173000
DTEND;TZID=UTC+1:20220730T191600
DTSTAMP:20260420T072322
CREATED:20220714T092428Z
LAST-MODIFIED:20220714T092428Z
UID:4474-1659202200-1659208560@www.kinopobjeda.hr
SUMMARY:DC Liga Super-ljubimaca
DESCRIPTION:\nU Kinu ‘Pobjeda’ Metković u subotu\, 30. srpnja s početkom u 17:30 na rasporedu je animirani film DC Liga Super-ljubimaca\, sinkroniziran na hrvatski jezik. \nLjubimce predvodi Supermanov voljeni pas Krypto. Njih su dvojica nerazdvojni prijatelji\, koji dijele super-moći i zajedno se bore protiv kriminala u Metropolisu. Kada Supermana i ostatak Lige pravde otmu\, Krypto mora uvjeriti ofucanu ekipu iz skloništa za životinje – psa Acea\, svinju PB-ja\, kornjaču Mertona i vjevericu Chipa – da ovladaju svojim novonastalim moćima i pomognu mu spasiti otete superjunake. Aceu se nikako ne sviđa ideja super-psa – no to će se brzo promijeniti kad upozna Batmana. \n  \n
URL:http://www.kinopobjeda.hr/raspored/dc-liga-super-ljubimaca/
CATEGORIES:animirani,sinkronizirano
END:VEVENT
END:VCALENDAR