BEGIN:VCALENDAR
VERSION:2.0
PRODID:-//Kino Pobjeda Metković - ECPv4.6.8//NONSGML v1.0//EN
CALSCALE:GREGORIAN
METHOD:PUBLISH
X-WR-CALNAME:Kino Pobjeda Metković
X-ORIGINAL-URL:http://www.kinopobjeda.hr
X-WR-CALDESC:Events for Kino Pobjeda Metković
BEGIN:VEVENT
DTSTART;TZID=UTC+1:20231004T200000
DTEND;TZID=UTC+1:20231004T215400
DTSTAMP:20260419T134348
CREATED:20231003T075220Z
LAST-MODIFIED:20231003T075917Z
UID:5038-1696449600-1696456440@www.kinopobjeda.hr
SUMMARY:'Demoni' - 'Rendez-vous au cinéma'
DESCRIPTION:  \n\nKino ‘Pobjeda’ Metković i ove je godine uključeno u ciklus Rendez-vous au cinéma\, Mjesec francuskoga filma u Kino mreži.\nOvogodišnji filmski rendez-vous održava se od 15. rujna do 15. listopada\, a program se sastoji od zanimljivih filmskih naslova. Program Kina ‘Pobjeda’ donosi dva filmska naslova\, a ulaz je slobodan. \nPrvi film na rasporedu je film ‘Demoni‘\, a projekcija će se održati u srijedu\, 4. listopada s početkom u 20 sati. Klasik iz 1954. koji je nastao prema romanu uglednog francuskog dvojca Pierrea Boileaua i Thomasa Narcejaca (Vrtoglavica\, Oči bez lica Georgesa Franjua)\, a za koji je i sam Hitchcock bio zainteresiran. Međutim\, Clouzot ga je preduhitrio pa je Hitchcock kasnije prema njihovu romanu režirao Vrtoglavicu. \nRavnatelj derutnog francuskog internata Michel Delassalle okrutan je čovjek\, sadist koji neprekidno maltretira krhku suprugu Christinu kao i ljubavnicu Nicole Horner\, učiteljicu koja radi s djecom. Kad obje shvate da im je dosta takvog života i Michela\, Christina i Nicole sklope pakt te ga se odluče osloboditi zajedničkim snagama. Isplanirano ubojstvo izvest će omamljivanjem Michela tabletom stavljenom u njegovo piće\, potom utapanjem u kadi te naposljetku bacanjem njegova tijela u bazen u krugu internata. \nNo\, kada sutradan bazen bude ispražnjen\, pokazat će se da je Michelovo tijelo zagonetno nestalo. Za Christinu i Nicole sve će se dodatno zakomplicirati kad učenici ubrzo počnu tvrditi da Michela viđaju živog\, a to će se odraziti i na međusobni odnos dviju žena i rastuće nepovjerenje među njima. \nU sklopu ciklusa Rendez-vous au cinéma u Kinu ‘Pobjeda’ Metković prikazat će se i film ‘Godina morskog psa‘\, a na rasporedu je u srijedu\, 11. listopada s početkom u 20 sati. \nProgram Rendez-vous au cinéma zajednički je projekt Francuskog instituta u Hrvatskoj\, Hrvatskoga audiovizualnog centra i Kino mreže\, a prvi je put organiziran u 2015. godini tijekom festivala Francuske u Hrvatskoj. \n  \n
URL:http://www.kinopobjeda.hr/raspored/demoni-rendez-vous-au-cinema/
CATEGORIES:drama,triler
END:VEVENT
END:VCALENDAR