BEGIN:VCALENDAR
VERSION:2.0
PRODID:-//Kino Pobjeda Metković - ECPv4.6.8//NONSGML v1.0//EN
CALSCALE:GREGORIAN
METHOD:PUBLISH
X-WR-CALNAME:Kino Pobjeda Metković
X-ORIGINAL-URL:http://www.kinopobjeda.hr
X-WR-CALDESC:Events for Kino Pobjeda Metković
BEGIN:VEVENT
DTSTART;TZID=UTC+1:20211030T200000
DTEND;TZID=UTC+1:20211030T223500
DTSTAMP:20260420T223835
CREATED:20211026T081615Z
LAST-MODIFIED:20211026T081615Z
UID:4104-1635624000-1635633300@www.kinopobjeda.hr
SUMMARY:Dina
DESCRIPTION:\nU Kinu ‘Pobjeda’ Metković u subotu u 20 sati na rasporedu je film ‘Dina’ – spektakularna avantura scenarista\, redatelja i producenta filma – Denisa Villeneuvea\, ujedno i adaptacija prvog romana znanstveno-fantastičnog klasika ‘Dina’ Franka Herberta.\nPriča prati Paula Atreidesa iz kuće Atreides\, sjajnog i nadarenog mladića rođenog za velike stvari\, koji mora otputovati na najopasniji planet u svemiru kako bi osigurao budućnost svoje obitelj i svog naroda. Nađe se usred sukoba oko ekskluzivne opskrbe najcjenjenijim resursom koji postoji\, najvrijednijem elementu galaksije koji se nalazi samo na Arrakisu i koji može otključati najveći potencijal čovječanstva\, u kojem će preživjeti samo oni koji mogu pobijediti svoj strah. \n  \n
URL:http://www.kinopobjeda.hr/raspored/dina/
CATEGORIES:12,avantura,znanstveno-fantastični
END:VEVENT
END:VCALENDAR