BEGIN:VCALENDAR
VERSION:2.0
PRODID:-//Kino Pobjeda Metković - ECPv4.6.8//NONSGML v1.0//EN
CALSCALE:GREGORIAN
METHOD:PUBLISH
X-WR-CALNAME:Kino Pobjeda Metković
X-ORIGINAL-URL:http://www.kinopobjeda.hr
X-WR-CALDESC:Events for Kino Pobjeda Metković
BEGIN:VEVENT
DTSTART;TZID=UTC+1:20211204T193000
DTEND;TZID=UTC+1:20211204T220000
DTSTAMP:20260420T163050
CREATED:20211129T103757Z
LAST-MODIFIED:20211129T103757Z
UID:4154-1638646200-1638655200@www.kinopobjeda.hr
SUMMARY:Dinastija Gucci
DESCRIPTION:\nU Kinu ‘Pobjeda’ Metković u subotu\, 4. prosinca u 19:30 gledamo triler ‘Dinastija Gucci’\, inspiriran šokantnom istinitom pričom o obiteljskom carstvu talijanske modne kuće Gucci.\nKontroverzna priča talijanske obitelji snimljena je pod redateljskom palicom Ridleyja Scotta i radnjom je smještena u 1995. godinu kada je Maurizio Gucci\, unuk osnivača luksuzne kuće\, na putu prema svom uredu ubijen\, a njegova supruga Patrizia Reggiani bila je optužena za naručivanje atentata. Tako je i stekla nadimak “Crna udovica”. Poznata po svom over-the-top stilu i britkom jeziku na pitanje zašto ga sama nije ubila\, odgovorila je\, “Moj vid nije toliko dobar\, a nisam htjela promašiti”. \n  \n
URL:http://www.kinopobjeda.hr/raspored/dinastija-gucci/
CATEGORIES:15,kriminalistički,triler
END:VEVENT
END:VCALENDAR