BEGIN:VCALENDAR
VERSION:2.0
PRODID:-//Kino Pobjeda Metković - ECPv4.6.8//NONSGML v1.0//EN
CALSCALE:GREGORIAN
METHOD:PUBLISH
X-WR-CALNAME:Kino Pobjeda Metković
X-ORIGINAL-URL:http://www.kinopobjeda.hr
X-WR-CALDESC:Events for Kino Pobjeda Metković
BEGIN:VEVENT
DTSTART;TZID=UTC+1:20230421T200000
DTEND;TZID=UTC+1:20230421T214500
DTSTAMP:20260419T210632
CREATED:20230419T074331Z
LAST-MODIFIED:20230419T074331Z
UID:4801-1682107200-1682113500@www.kinopobjeda.hr
SUMMARY:Divna propast
DESCRIPTION:\nU Kinu ‘Pobjeda’ Metković u petak\, 21. travnja s početkom u 20 sati na rasporedu je ljubavna drama ‘Divna propast’. Ljubitelje filmova ‘Pedeset nijansi sive’ i ‘Poslije svega’ oduševit će film nastao prema istoimenoj knjizi. \nRiječ je o napetoj ljubavnoj priči između Abby\, djevojke koja bježi od svog oca i prošlosti koja je prati i Travisa\, zločestog dečka kojeg upoznaje na fakultetu koji je upisala zajedno s prijateljicom Americom. Abby izbjegava sve što bi je moglo uvaliti u nevolje ili vratiti na stari put. Travis je zgodan\, naočit\, tetoviran\, vrlo samouvjeren\, bahat i temperamentan\, on je pravi mamac za cure\, nijedna mu ne može odoljeti\, sve ga žele\, a on ne želi vezu. \n  \n
URL:http://www.kinopobjeda.hr/raspored/divna-propast/
CATEGORIES:15,drama,ljubavna drama,romansa
END:VEVENT
END:VCALENDAR