BEGIN:VCALENDAR
VERSION:2.0
PRODID:-//Kino Pobjeda Metković - ECPv4.6.8//NONSGML v1.0//EN
CALSCALE:GREGORIAN
METHOD:PUBLISH
X-WR-CALNAME:Kino Pobjeda Metković
X-ORIGINAL-URL:http://www.kinopobjeda.hr
X-WR-CALDESC:Events for Kino Pobjeda Metković
BEGIN:VEVENT
DTSTART;TZID=UTC+1:20210306T193000
DTEND;TZID=UTC+1:20210306T213000
DTSTAMP:20260421T034351
CREATED:20210302T122850Z
LAST-MODIFIED:20210302T122850Z
UID:3698-1615059000-1615066200@www.kinopobjeda.hr
SUMMARY:Djevojka koja obećava
DESCRIPTION:\n\nU sklopu programa Ženijalnih dana u Kinu Pobjeda Metković u subotu\, 6. ožujka održat će se projekcija filma “Djevojka koja obećava” – trilera koji donosi novi\, zanimljivi pogled na osvetu.\nZa Cassie (Carey Mulligan) svi tvrde da je obećavajuća mlada djevojka….dok joj strašan događaj ne usmjeri život na totalno drugačiji put. No ništa na prvi pogled nije onako kako izgleda. Ona je pametna\, lukava\, neustrašiva i živi dvostruki život. Po danu radi kao konobarica u lokalnom kafiću\, a po noći izlazi i traži osvetu. Neočekivani susret će omogućiti Cassie da ispravi sve nepravde iz svoje prošlosti. \n  \n
URL:http://www.kinopobjeda.hr/raspored/djevojka-koja-obecava/
CATEGORIES:15,drama,kriminalistički,triler
END:VEVENT
END:VCALENDAR