BEGIN:VCALENDAR
VERSION:2.0
PRODID:-//Kino Pobjeda Metković - ECPv4.6.8//NONSGML v1.0//EN
CALSCALE:GREGORIAN
METHOD:PUBLISH
X-WR-CALNAME:Kino Pobjeda Metković
X-ORIGINAL-URL:http://www.kinopobjeda.hr
X-WR-CALDESC:Events for Kino Pobjeda Metković
BEGIN:VEVENT
DTSTART;TZID=UTC+1:20180121T193000
DTEND;TZID=UTC+1:20180121T213000
DTSTAMP:20260423T030953
CREATED:20180115T090120Z
LAST-MODIFIED:20180115T090320Z
UID:1909-1516563000-1516570200@www.kinopobjeda.hr
SUMMARY:Do posljednjeg daha
DESCRIPTION:\nIZVORNO IME: Breathe\nREDATELJ: Andy Serkis | ŽANR: biografija\, drama\, romantični\nULOGE: Diana Rigg\, Claire Foy\, Andrew Garfield\nDATUM FILMA: 117 minuta | GODINA: 2017 | DRŽAVA: Velika Britanija |\nDATUM PRIKAZIVANJA: 21.01. | 19\,30 \nSADRŽAJ FILMA:\nKada Robinu u 28. godini dijagnosticiraju paralizu\, on biva osuđen na bolnički krevet i tek nekoliko mjeseci života. Uz pomoć Dianine braće i revolucionarnog izumitelja Teddyja Halla\, Robin i Diana odbijaju ograničiti svoj način života i kreću u borbu za život – odgajajući pri tom svoga sina\, putujući i pomažući drugim pacijentima sa sličnom dijagnozom. \n \n
URL:http://www.kinopobjeda.hr/raspored/do-posljednjeg-daha/
CATEGORIES:biografija,drama,romansa
END:VEVENT
END:VCALENDAR